BEGIN:VCALENDAR
VERSION:2.0
PRODID:-//Pizza-Schule.de
CALSCALE:GREGORIAN
METHOD:PUBLISH
X-WR-CALNAME:Pizza-Schule.de
X-ORIGINAL-URL:https://pizza-schule.de/store/biga-basis-kurs-15-05-2026/
X-WR-CALDESC:Biga Basis Kurs &#8211; Professionelle Technik für Pizzateige 15.05.2026 | Freitagabend
BEGIN:VEVENT
DTSTART:20260515T170000
DTEND:20260515T210000
SUMMARY:Biga Basis Kurs &#8211; Professionelle Technik für Pizzateige 15.05.2026 | Freitagabend
DESCRIPTION:<p data-start="366" data-end="588">Entdecke eine der wichtigsten Teigtechniken der professionellen Pizza- und Backwelt. <br data-start="450" data-end="453" />Im <strong data-start="456" data-end="475">Biga Basis Kurs</strong> lernst du, wie du mit diesem Vorteig Struktur, Aroma und Bekömmlichkeit deiner Teige deutlich verbessern kannst.</p>
<p data-start="590" data-end="749">Der 4-stündige Kurs kombiniert Theorie und Praxis und zeigt dir Schritt für Schritt, wie die <strong data-start="683" data-end="699">Biga-Methode</strong> in der Pizza- und Backproduktion eingesetzt wird.</p>
<p data-start="751" data-end="869">Mit <strong data-start="755" data-end="780">maximal 8 Teilnehmern</strong> garantiert der Kurs intensives Lernen, direkten Austausch und praktische Arbeit am Teig.</p>
LOCATION:Pizza-Schule Akademie Fürther Str.13, 90587 Veitsbronn
END:VEVENT
END:VCALENDAR
