BEGIN:VCALENDAR
VERSION:2.0
PRODID:-//Pizza-Schule.de
CALSCALE:GREGORIAN
METHOD:PUBLISH
X-WR-CALNAME:Pizza-Schule.de
X-ORIGINAL-URL:https://pizza-schule.de/store/pizzakurs-moderne-neapolitanische-pizza-20-06-2026/
X-WR-CALDESC:Pizzakurs: Moderne Neapolitanische Pizza mit Biga mit professionellen Geräten für den Hausgebrauch 20-21.06.2026 | Wochenende
BEGIN:VEVENT
DTSTART:20260620T100000
DTEND:20260621T143000
SUMMARY:Pizzakurs: Moderne Neapolitanische Pizza mit Biga mit professionellen Geräten für den Hausgebrauch 20-21.06.2026 | Wochenende
DESCRIPTION:Beherrsche in zwei Tagen die Kunst der modernen neapolitanischen Pizza mit Biga – leicht, luftig und unvergleichlich. Mit hochwertigen Profi-Geräten für den Hausgebrauch holst du Pizzeria-Qualität direkt in deine eigene Küche.
LOCATION:Pizza-Schule Akademie Fürther Str.13, 90587 Veitsbronn
END:VEVENT
END:VCALENDAR
